BEGIN:VCALENDAR
VERSION:2.0
PRODID:-//Sandlot Revival//Events//EN
CALSCALE:GREGORIAN
METHOD:PUBLISH
BEGIN:VEVENT
UID:event-1897@sandlotrevival.org
DTSTAMP:20260420T110323Z
DTSTART:20260520T190000
DTEND:20260520T210000
SUMMARY:Heart and Soul Church &#8211\; Knoxville\, TN
LOCATION:1101 Corridor Park Blvd Knoxville TN 37932
URL:https://sandlotrevival.org/events/heart-and-soul-church-knoxville-tn/
END:VEVENT
END:VCALENDAR
